BEGIN:VCALENDAR
VERSION:2.0
PRODID:-//Intand Corporation//Tandem//EN
METHOD:PUBLISH
BEGIN:VEVENT
DTSTAMP:20260424T023716Z
DTSTART:20181018T230000Z
DTEND:20181019T010000Z
TRANSP:TRANSPARENT
PRIORITY:0
SUMMARY:LN Women's Golf Banquet
LOCATION:LNHS LMC - 200
DESCRIPTION:Groups:\nLNHS Golf - Girls\n\nSchools:\nLiberty North High Sch
 ool\n\nLocation:\nLNHS LMC - 200\n\n
URL;VALUE=URI:http://liberty53.tandem.co/index.php?type=view&action=event&
 id=327611
CREATED:20180921T122716Z
LAST-MODIFIED:20180928T143130Z
UID:event_request-327611-liberty53@intand.com
END:VEVENT
END:VCALENDAR
