BEGIN:VCALENDAR
VERSION:2.0
PRODID:-//Intand Corporation//Tandem//EN
METHOD:PUBLISH
BEGIN:VEVENT
DTSTAMP:20260424T043009Z
DTSTART:20181012T130000Z
DTEND:20181012T210000Z
TRANSP:TRANSPARENT
PRIORITY:0
SUMMARY:DAC-408  MAP-A Training
LOCATION:DAC 4 - 408
DESCRIPTION:Groups:\nSSC Special Services Staff\nDAC Innovation & Learning
 \n\nSchools:\nDistrict Administration Center\n\nLocation:\nDAC 4 - 408\n\n
URL;VALUE=URI:http://liberty53.tandem.co/index.php?type=view&action=event&
 id=327082
CREATED:20180913T185331Z
LAST-MODIFIED:20180914T124214Z
UID:event_request-327082-liberty53@intand.com
END:VEVENT
END:VCALENDAR
