BEGIN:VCALENDAR
VERSION:2.0
PRODID:-//Intand Corporation//Tandem//EN
METHOD:PUBLISH
BEGIN:VEVENT
DTSTAMP:20260424T055410Z
DTSTART:20181120T000000Z
DTEND:20181120T013000Z
TRANSP:TRANSPARENT
PRIORITY:0
SUMMARY:LHS - Hoosiers Basketball Practice (Bragg)
LOCATION:LHS Auxiliary Gym
DESCRIPTION:Groups:\nLHS Baseball\n\nSchools:\nLiberty High School\n\nLoca
 tion:\nLHS Auxiliary Gym\n\n
URL;VALUE=URI:http://liberty53.tandem.co/index.php?type=view&action=event&
 id=326943
CREATED:20180911T163210Z
LAST-MODIFIED:20181116T134210Z
UID:event-326943-liberty53@intand.com
END:VEVENT
END:VCALENDAR
