BEGIN:VCALENDAR
VERSION:2.0
PRODID:-//Intand Corporation//Tandem//EN
METHOD:PUBLISH
BEGIN:VEVENT
DTSTAMP:20260424T043448Z
DTSTART:20181023T230000Z
DTEND:20181024T003000Z
TRANSP:TRANSPARENT
PRIORITY:0
SUMMARY:KB - KC Wolves Basketball
LOCATION:KE Gym
DESCRIPTION:Groups:\nKC Wolves Basketball\n\nSchools:\nKellybrook Elementa
 ry\n\nLocation:\nKE Gym\n\n
URL;VALUE=URI:http://liberty53.tandem.co/index.php?type=view&action=event&
 id=326616
CREATED:20180906T134316Z
LAST-MODIFIED:20180906T134517Z
UID:event-326616-liberty53@intand.com
END:VEVENT
END:VCALENDAR
