BEGIN:VCALENDAR
VERSION:2.0
PRODID:-//Intand Corporation//Tandem//EN
METHOD:PUBLISH
BEGIN:VEVENT
DTSTAMP:20260424T041656Z
DTSTART:20190313T183000Z
DTEND:20190313T200000Z
TRANSP:TRANSPARENT
PRIORITY:0
SUMMARY:SSC-NS Nutrition Services
LOCATION:SS Conference Room
DESCRIPTION:Groups:\nSSC Nutrition Services\n\nSchools:\nDistrict Administ
 ration Center\n\nLocation:\nSS Conference Room\n\n
URL;VALUE=URI:http://liberty53.tandem.co/index.php?type=view&action=event&
 id=326605
CREATED:20180906T131820Z
LAST-MODIFIED:20181001T205028Z
UID:event_request-326605-liberty53@intand.com
END:VEVENT
END:VCALENDAR
