BEGIN:VCALENDAR
VERSION:2.0
PRODID:-//Intand Corporation//Tandem//EN
METHOD:PUBLISH
BEGIN:VEVENT
DTSTAMP:20260424T061313Z
DTSTART:20181011T123000Z
DTEND:20181011T133000Z
TRANSP:TRANSPARENT
PRIORITY:0
SUMMARY:IEP - Simpson (DC)
LOCATION:LHS Guidance Conference Room
DESCRIPTION:Groups:\nLHS SPED\n\nSchools:\nLiberty High School\n\nLocation
 :\nLHS Guidance Conference Room\n\n
URL;VALUE=URI:http://liberty53.tandem.co/index.php?type=view&action=event&
 id=326601
CREATED:20180906T131408Z
LAST-MODIFIED:20180906T150210Z
UID:event_request-326601-liberty53@intand.com
END:VEVENT
END:VCALENDAR
