BEGIN:VCALENDAR
VERSION:2.0
PRODID:-//Intand Corporation//Tandem//EN
METHOD:PUBLISH
BEGIN:VEVENT
DTSTAMP:20260424T034805Z
DTSTART:20180918T140000Z
DTEND:20180918T150000Z
TRANSP:TRANSPARENT
PRIORITY:0
SUMMARY:Land of Smiles Dental Health Program & Performance
LOCATION:LHS LMC Main Floor
DESCRIPTION:Land of Smiles Dental Health Educational Program & Performance
  featuring the Tooth Fairy\, PlaqueMan\, & the Tooth Wizard. \n\nSetup: 8:
 15 am\nBreakdown: 10:30 am\n\nGroups:\nLHS Blue Jay Junction\n\nSchools:\n
 Liberty High School\n\nLocation:\nLHS LMC Main Floor\n\nContacts:\nRedacte
 d Redacted\nAmy Mallams\nAmy Mallams\n\nSupervisors:\nRedacted Redacted\nA
 my Mallams\nAmy Mallams\n\nLand of Smiles Dental Health Educational Progra
 m & Performance featuring the Tooth Fairy\, PlaqueMan\, & the Tooth Wizard
 . Tooth Wizard takes the students on an adventurous journey through the La
 nd of Smiles. As he battles his arch enemy PlaqueMan for the health of tee
 th everywhere\, the students will learn how to take great care of their gr
 owing smiles\, & what to do to keep their smiles healthy & strong for a li
 fetime.\n\nwww.LandofSmilesProgram.org\n\n
X-ALT-DESC;FMTTYPE=text/html:<!doctype html><html><body><strong>Land of Sm
 iles Dental Health Educational Program & Performance</strong> featuring th
 e Tooth Fairy\, PlaqueMan\, & the Tooth Wizard. <br /><br />Setup: 8:15 am
 <br />Breakdown: 10:30 am<br /><br />Groups:<br />LHS Blue Jay Junction<br
  /><br />Schools:<br />Liberty High School<br /><br />Location:<br />LHS L
 MC Main Floor<br /><br />Contacts:<br />Redacted Redacted<br />Amy Mallams
 <br />Amy Mallams<br /><br />Supervisors:<br />Redacted Redacted<br />Amy 
 Mallams<br />Amy Mallams<br /><br />Notes:<br /><strong>Land of Smiles Den
 tal Health Educational Program & Performance</strong> featuring the Tooth 
 Fairy\, PlaqueMan\, & the Tooth Wizard. Tooth Wizard takes the students on
  an adventurous journey through the Land of Smiles. As he battles his arch
  enemy PlaqueMan for the health of teeth everywhere\, the students will le
 arn how to take great care of their growing smiles\, & what to do to keep 
 their smiles healthy & strong for a lifetime.</p><p><a href="http://www.la
 ndofsmilesprogram.org/" target="_blank">www.LandofSmilesProgram.org</a><br
  /></body></html>
URL;VALUE=URI:http://liberty53.tandem.co/index.php?type=view&action=event&
 id=326464
CREATED:20180902T175826Z
LAST-MODIFIED:20180905T130521Z
UID:event_request-326464-liberty53@intand.com
END:VEVENT
END:VCALENDAR
