BEGIN:VCALENDAR
VERSION:2.0
PRODID:-//Intand Corporation//Tandem//EN
METHOD:PUBLISH
BEGIN:VEVENT
DTSTAMP:20260424T055213Z
DTSTART:20190208T133000Z
DTEND:20190208T210000Z
TRANSP:TRANSPARENT
PRIORITY:0
SUMMARY:[Cancelled] DAC-410/409/408 Seal of Biliteracy testing
LOCATION:DAC 4 - 409\, DAC 4 - 410\, DAC 4 - 408
DESCRIPTION:Groups:\nDAC Innovation & Learning\n\nSchools:\nDistrict Admin
 istration Center\n\nLocations:\nDAC 4 - 409\nDAC 4 - 410\nDAC 4 - 408\n\n
URL;VALUE=URI:http://liberty53.tandem.co/index.php?type=view&action=event&
 id=326460
CREATED:20180831T190543Z
LAST-MODIFIED:20181115T144516Z
UID:event-326460-liberty53@intand.com
END:VEVENT
END:VCALENDAR
