BEGIN:VCALENDAR
VERSION:2.0
PRODID:-//Intand Corporation//Tandem//EN
METHOD:PUBLISH
BEGIN:VEVENT
DTSTAMP:20260424T144128Z
DTSTART:20190206T133000Z
DTEND:20190206T210000Z
TRANSP:TRANSPARENT
PRIORITY:0
SUMMARY:[Cancelled] DAC-410/409 Seal of Biliteracy testing
LOCATION:DAC 4 - 409\, DAC 4 - 410
DESCRIPTION:Groups:\nDAC Innovation & Learning\n\nSchools:\nDistrict Admin
 istration Center\n\nLocations:\nDAC 4 - 409\nDAC 4 - 410\n\n
URL;VALUE=URI:http://liberty53.tandem.co/index.php?type=view&action=event&
 id=326459
CREATED:20180831T190526Z
LAST-MODIFIED:20181115T144502Z
UID:event-326459-liberty53@intand.com
END:VEVENT
END:VCALENDAR
