BEGIN:VCALENDAR
VERSION:2.0
PRODID:-//Intand Corporation//Tandem//EN
METHOD:PUBLISH
BEGIN:VEVENT
DTSTAMP:20260424T043914Z
DTSTART:20181010T110000Z
DTEND:20181010T183000Z
TRANSP:TRANSPARENT
PRIORITY:0
SUMMARY:LHS PAST Testing
LOCATION:LHS Fieldhouse Gym
DESCRIPTION:Paul\, at this moment we have 110 students signed up for the e
 xam\, I will speak with you about length of tables and chairs with you lat
 er today. per Mrs. Herrman\n\nSchools:\nLiberty High School\n\nLocation:\n
 LHS Fieldhouse Gym\n\n
X-ALT-DESC;FMTTYPE=text/html:<!doctype html><html><body><span>Paul\, at th
 is moment we have 110 students signed up for the exam\, I will speak with 
 you about length of tables and chairs with you later today. per Mrs. Herrm
 an</span><br /><br />Schools:<br />Liberty High School<br /><br />Location
 :<br />LHS Fieldhouse Gym<br /></body></html>
URL;VALUE=URI:http://liberty53.tandem.co/index.php?type=view&action=event&
 id=326392
CREATED:20180831T152916Z
LAST-MODIFIED:20180905T130521Z
UID:event_request-326392-liberty53@intand.com
END:VEVENT
END:VCALENDAR
