BEGIN:VCALENDAR
VERSION:2.0
PRODID:-//Intand Corporation//Tandem//EN
METHOD:PUBLISH
BEGIN:VEVENT
DTSTAMP:20260424T043054Z
DTSTART:20190508T124500Z
DTEND:20190508T133000Z
TRANSP:TRANSPARENT
PRIORITY:0
SUMMARY:LN - GSA Meeting
LOCATION:LNHS LMC - 200
DESCRIPTION:Groups:\nLNHS Gay Straight Alliance\n\nSchools:\nLiberty North
  High School\n\nLocation:\nLNHS LMC - 200\n\n
URL;VALUE=URI:http://liberty53.tandem.co/index.php?type=view&action=event&
 id=326263
CREATED:20180830T122641Z
LAST-MODIFIED:20180904T161513Z
UID:event_request-326263-liberty53@intand.com
END:VEVENT
END:VCALENDAR
