BEGIN:VCALENDAR
VERSION:2.0
PRODID:-//Intand Corporation//Tandem//EN
METHOD:PUBLISH
BEGIN:VEVENT
DTSTAMP:20260424T041343Z
DTSTART:20190325T133000Z
DTEND:20190325T170000Z
TRANSP:TRANSPARENT
PRIORITY:0
SUMMARY:DAC-409 Process Coordinator Meeting
LOCATION:DAC 4 - 409
DESCRIPTION:Groups:\nDAC Innovation & Learning\n\nSchools:\nDistrict Admin
 istration Center\n\nLocation:\nDAC 4 - 409\n\n
URL;VALUE=URI:http://liberty53.tandem.co/index.php?type=view&action=event&
 id=326080
CREATED:20180828T193309Z
LAST-MODIFIED:20181217T191802Z
UID:event-326080-liberty53@intand.com
END:VEVENT
END:VCALENDAR
