BEGIN:VCALENDAR
VERSION:2.0
PRODID:-//Intand Corporation//Tandem//EN
METHOD:PUBLISH
BEGIN:VEVENT
DTSTAMP:20260424T022422Z
DTSTART:20190228T140000Z
DTEND:20190228T180000Z
TRANSP:TRANSPARENT
PRIORITY:0
SUMMARY:[Cancelled] DAC-409 Heads of State Science GR 9-12
LOCATION:DAC 4 - 409
DESCRIPTION:Groups:\nDAC Innovation & Learning\n\nSchools:\nDistrict Admin
 istration Center\n\nLocation:\nDAC 4 - 409\n\n
URL;VALUE=URI:http://liberty53.tandem.co/index.php?type=view&action=event&
 id=326065
CREATED:20180828T191244Z
LAST-MODIFIED:20190227T144956Z
UID:event-326065-liberty53@intand.com
END:VEVENT
END:VCALENDAR
