BEGIN:VCALENDAR
VERSION:2.0
PRODID:-//Intand Corporation//Tandem//EN
METHOD:PUBLISH
BEGIN:VEVENT
DTSTAMP:20260424T073009Z
DTSTART:20190225T180000Z
DTEND:20190225T210000Z
TRANSP:TRANSPARENT
PRIORITY:0
SUMMARY:DAC-408 Instructional Learning Coaches
LOCATION:DAC 4 - 408
DESCRIPTION:Groups:\nDAC Innovation & Learning\n\nSchools:\nDistrict Admin
 istration Center\n\nLocation:\nDAC 4 - 408\n\n
URL;VALUE=URI:http://liberty53.tandem.co/index.php?type=view&action=event&
 id=326055
CREATED:20180828T185721Z
LAST-MODIFIED:20180828T185721Z
UID:event-326055-liberty53@intand.com
END:VEVENT
END:VCALENDAR
