BEGIN:VCALENDAR
VERSION:2.0
PRODID:-//Intand Corporation//Tandem//EN
METHOD:PUBLISH
BEGIN:VEVENT
DTSTAMP:20260424T035028Z
DTSTART:20190222T190000Z
DTEND:20190222T200000Z
TRANSP:TRANSPARENT
PRIORITY:0
SUMMARY:[Cancelled] DAC-410 Academic Services Data Team
LOCATION:DAC 4 - 410
DESCRIPTION:Groups:\nDAC Innovation & Learning\n\nSchools:\nDistrict Admin
 istration Center\n\nLocation:\nDAC 4 - 410\n\n
URL;VALUE=URI:http://liberty53.tandem.co/index.php?type=view&action=event&
 id=326049
CREATED:20180828T185111Z
LAST-MODIFIED:20190222T170937Z
UID:event-326049-liberty53@intand.com
END:VEVENT
END:VCALENDAR
