BEGIN:VCALENDAR
VERSION:2.0
PRODID:-//Intand Corporation//Tandem//EN
METHOD:PUBLISH
BEGIN:VEVENT
DTSTAMP:20260424T073630Z
DTSTART:20180830T173000Z
DTEND:20180830T180000Z
TRANSP:TRANSPARENT
PRIORITY:0
SUMMARY:ECC Staff Working Lunch - "Proper Health Procedures" with Kathy El
 lermeier
LOCATION:ECC Fireplace Room
DESCRIPTION:Groups:\nPAT Staff\nECC Staff\n\nSchools:\nEarly Childhood Edu
 cation Center\n\nLocation:\nECC Fireplace Room\n\n
URL;VALUE=URI:http://liberty53.tandem.co/index.php?type=view&action=event&
 id=325907
CREATED:20180827T152607Z
LAST-MODIFIED:20180827T152607Z
UID:event-325907-liberty53@intand.com
END:VEVENT
END:VCALENDAR
