BEGIN:VCALENDAR
VERSION:2.0
PRODID:-//Intand Corporation//Tandem//EN
METHOD:PUBLISH
BEGIN:VEVENT
DTSTAMP:20260424T040604Z
DTSTART:20180830T230000Z
DTEND:20180831T020000Z
TRANSP:TRANSPARENT
PRIORITY:0
SUMMARY:LHS- Wrestling Meeting
LOCATION:LHS Hall of Fame Room
DESCRIPTION:Groups:\nLHS Wrestling\n\nSchools:\nLiberty High School\n\nLoc
 ation:\nLHS Hall of Fame Room\n\n
URL;VALUE=URI:http://liberty53.tandem.co/index.php?type=view&action=event&
 id=325906
CREATED:20180827T152204Z
LAST-MODIFIED:20180827T152204Z
UID:event-325906-liberty53@intand.com
END:VEVENT
END:VCALENDAR
