BEGIN:VCALENDAR
VERSION:2.0
PRODID:-//Intand Corporation//Tandem//EN
METHOD:PUBLISH
BEGIN:VEVENT
DTSTAMP:20260424T061320Z
DTSTART:20190124T003000Z
DTEND:20190124T020000Z
TRANSP:TRANSPARENT
PRIORITY:0
SUMMARY:[Cancelled] HMS - Girl Scout Troop 1752 (Keller)
LOCATION:HMS LMC Classroom 2
DESCRIPTION:Groups:\nGirl Scout Troop 1752\n\nSchools:\nHeritage Middle Sc
 hool\n\nLocation:\nHMS LMC Classroom 2\n\n
URL;VALUE=URI:http://liberty53.tandem.co/index.php?type=view&action=event&
 id=325611
CREATED:20180823T143122Z
LAST-MODIFIED:20190123T132611Z
UID:event-325611-liberty53@intand.com
END:VEVENT
END:VCALENDAR
