BEGIN:VCALENDAR
VERSION:2.0
PRODID:-//Intand Corporation//Tandem//EN
METHOD:PUBLISH
BEGIN:VEVENT
DTSTAMP:20260424T034802Z
DTSTART:20180926T233000Z
DTEND:20180927T010000Z
TRANSP:TRANSPARENT
PRIORITY:0
SUMMARY:LN Girls Basketball Open Gym
LOCATION:LNHS Fieldhouse (GH HVAC)\, LNHS Aux Gym - 407 (GH HVAC)
DESCRIPTION:Groups:\nLNHS Basketball - Girls C-Team\nLNHS Basketball - Gir
 ls Freshman\nLNHS Basketball - Girls JV\nLNHS Basketball - Girls JV/Varsit
 y\nLNHS WBB Varsity\n\nSchools:\nLiberty North High School\nDO NOT USE***L
 iberty Junior High School\nDO NOT USE****South Valley Junior High School\n
 \nLocations:\nLNHS Fieldhouse (GH HVAC)\nLNHS Aux Gym - 407 (GH HVAC)\n\n
URL;VALUE=URI:http://liberty53.tandem.co/index.php?type=view&action=event&
 id=325540
CREATED:20180822T201333Z
LAST-MODIFIED:20180822T201444Z
UID:event_request-325540-liberty53@intand.com
END:VEVENT
END:VCALENDAR
