BEGIN:VCALENDAR
VERSION:2.0
PRODID:-//Intand Corporation//Tandem//EN
METHOD:PUBLISH
BEGIN:VEVENT
DTSTAMP:20260424T055307Z
DTSTART:20180824T230000Z
DTEND:20180825T043000Z
TRANSP:TRANSPARENT
PRIORITY:0
SUMMARY:LMS - GYM CLOSED UNDER CONSTRUCTION
LOCATION:LMS Gym
DESCRIPTION:Schools:\nLiberty Middle School\n\nLocation:\nLMS Gym\n\n
URL;VALUE=URI:http://liberty53.tandem.co/index.php?type=view&action=event&
 id=325512
CREATED:20180822T192514Z
LAST-MODIFIED:20181207T141919Z
UID:event_request-325512-liberty53@intand.com
END:VEVENT
END:VCALENDAR
