BEGIN:VCALENDAR
VERSION:2.0
PRODID:-//Intand Corporation//Tandem//EN
METHOD:PUBLISH
BEGIN:VEVENT
DTSTAMP:20260424T043537Z
DTSTART:20181011T170000Z
DTEND:20181011T200000Z
TRANSP:TRANSPARENT
PRIORITY:0
SUMMARY:DAC-410/409/408 Heads of State PE GR K-12
LOCATION:DAC 4 - 409\, DAC 4 - 410\, DAC 4 - 408
DESCRIPTION:Groups:\nDAC Innovation & Learning\n\nSchools:\nDistrict Admin
 istration Center\n\nLocations:\nDAC 4 - 409\nDAC 4 - 410\nDAC 4 - 408\n\n
URL;VALUE=URI:http://liberty53.tandem.co/index.php?type=view&action=event&
 id=325481
CREATED:20180822T183832Z
LAST-MODIFIED:20180822T185601Z
UID:event-325481-liberty53@intand.com
END:VEVENT
END:VCALENDAR
