BEGIN:VCALENDAR
VERSION:2.0
PRODID:-//Intand Corporation//Tandem//EN
METHOD:PUBLISH
BEGIN:VEVENT
DTSTAMP:20260424T040512Z
DTSTART:20180926T123000Z
DTEND:20180926T160000Z
TRANSP:TRANSPARENT
PRIORITY:0
SUMMARY:DAC-410/409 New Teacher (Elementary) Meeting
LOCATION:DAC 4 - 409\, DAC 4 - 410
DESCRIPTION:Groups:\nDAC Innovation & Learning\n\nSchools:\nDistrict Admin
 istration Center\n\nLocations:\nDAC 4 - 409\nDAC 4 - 410\n\n
URL;VALUE=URI:http://liberty53.tandem.co/index.php?type=view&action=event&
 id=325434
CREATED:20180822T163346Z
LAST-MODIFIED:20180822T163346Z
UID:event-325434-liberty53@intand.com
END:VEVENT
END:VCALENDAR
