BEGIN:VCALENDAR
VERSION:2.0
PRODID:-//Intand Corporation//Tandem//EN
METHOD:PUBLISH
BEGIN:VEVENT
DTSTAMP:20260424T061452Z
DTSTART:20190207T210000Z
DTEND:20190207T223000Z
TRANSP:TRANSPARENT
PRIORITY:0
SUMMARY:[Cancelled] EPIC - Girl Scout Meeting ( Lynam)
LOCATION:EPiC Elementary
DESCRIPTION:Room 104/105\n\nGroups:\nGirls Scouts of NE Kansas and NW Miss
 ouri\n\nSchools:\nEPiC Elementary\n\nLocation:\nEPiC Elementary\n\n
URL;VALUE=URI:http://liberty53.tandem.co/index.php?type=view&action=event&
 id=325307
CREATED:20180821T192810Z
LAST-MODIFIED:20190207T131631Z
UID:event-325307-liberty53@intand.com
END:VEVENT
END:VCALENDAR
