BEGIN:VCALENDAR
VERSION:2.0
PRODID:-//Intand Corporation//Tandem//EN
METHOD:PUBLISH
BEGIN:VEVENT
DTSTAMP:20260424T040843Z
DTSTART:20180906T130000Z
DTEND:20180906T170000Z
TRANSP:TRANSPARENT
PRIORITY:0
SUMMARY:PE PD-Roger Stirtz
LOCATION:LHS Hall of Fame Room
DESCRIPTION:Groups:\nLHS Boys Basketball\n\nSchools:\nLiberty High School\
 n\nLocation:\nLHS Hall of Fame Room\n\n
URL;VALUE=URI:http://liberty53.tandem.co/index.php?type=view&action=event&
 id=325272
CREATED:20180821T183544Z
LAST-MODIFIED:20180822T173437Z
UID:event_request-325272-liberty53@intand.com
END:VEVENT
END:VCALENDAR
