BEGIN:VCALENDAR
VERSION:2.0
PRODID:-//Intand Corporation//Tandem//EN
METHOD:PUBLISH
BEGIN:VEVENT
DTSTAMP:20260424T073956Z
DTSTART:20180904T230000Z
DTEND:20180905T003000Z
TRANSP:TRANSPARENT
PRIORITY:0
SUMMARY:LNHS Musical Parent Meeting
LOCATION:LNHS Performing Arts Theater (GH HVAC)
DESCRIPTION:Groups:\nLNHS Theater\n\nSchools:\nLiberty North High School\n
 \nLocation:\nLNHS Performing Arts Theater (GH HVAC)\n\n
URL;VALUE=URI:http://liberty53.tandem.co/index.php?type=view&action=event&
 id=325262
CREATED:20180821T151334Z
LAST-MODIFIED:20180821T154857Z
UID:event_request-325262-liberty53@intand.com
END:VEVENT
END:VCALENDAR
