BEGIN:VCALENDAR
VERSION:2.0
PRODID:-//Intand Corporation//Tandem//EN
METHOD:PUBLISH
BEGIN:VEVENT
DTSTAMP:20260424T054045Z
DTSTART:20181202T210000Z
DTEND:20181203T010000Z
TRANSP:TRANSPARENT
PRIORITY:0
SUMMARY:SC - Woodneath Christmas Party
LOCATION:SCE Great Hall
DESCRIPTION:Groups:\nWoodneath HOA\n\nSchools:\nShoal Creek Elementary\n\n
 Location:\nSCE Great Hall\n\n
URL;VALUE=URI:http://liberty53.tandem.co/index.php?type=view&action=event&
 id=325206
CREATED:20180820T185008Z
LAST-MODIFIED:20180820T185008Z
UID:event-325206-liberty53@intand.com
END:VEVENT
END:VCALENDAR
