BEGIN:VCALENDAR
VERSION:2.0
PRODID:-//Intand Corporation//Tandem//EN
METHOD:PUBLISH
BEGIN:VEVENT
DTSTAMP:20260424T023350Z
DTSTART:20180820T203000Z
DTEND:20180820T220000Z
TRANSP:TRANSPARENT
PRIORITY:0
SUMMARY:LN Softball Practice
LOCATION:LNHS Fieldhouse Turf Room
DESCRIPTION:Groups:\nLNHS Softball - JV/Varsity \n\nSchools:\nLiberty Nort
 h High School\n\nLocation:\nLNHS Fieldhouse Turf Room\n\n
URL;VALUE=URI:http://liberty53.tandem.co/index.php?type=view&action=event&
 id=325193
CREATED:20180820T165527Z
LAST-MODIFIED:20180821T124556Z
UID:event_request-325193-liberty53@intand.com
END:VEVENT
END:VCALENDAR
