BEGIN:VCALENDAR
VERSION:2.0
PRODID:-//Intand Corporation//Tandem//EN
METHOD:PUBLISH
BEGIN:VEVENT
DTSTAMP:20260424T023810Z
DTSTART:20190326T183000Z
DTEND:20190326T190000Z
TRANSP:TRANSPARENT
PRIORITY:0
SUMMARY:LHS/LNHS Pre-Festival Clinic
LOCATION:Liberty Performing Arts Theatre
DESCRIPTION:Pre-Festial clinic with groups going to All State Large Group 
 Festival.\n\nSetup: 9:30 am\nBreakdown: 3:00 pm\n\nGroups:\nLNHS Orchestra
 \nLHS Orchestra\n\nSchools:\nLiberty North High School\nLiberty High Schoo
 l\n\nLocation:\nLiberty Performing Arts Theatre\n\nContacts:\nMichelle Dav
 is\n\nSupervisors:\nAaron Money\n\n
URL;VALUE=URI:http://liberty53.tandem.co/index.php?type=view&action=event&
 id=325094
CREATED:20180818T183958Z
LAST-MODIFIED:20180820T150317Z
UID:event_request-325094-liberty53@intand.com
END:VEVENT
END:VCALENDAR
