BEGIN:VCALENDAR
VERSION:2.0
PRODID:-//Intand Corporation//Tandem//EN
METHOD:PUBLISH
BEGIN:VEVENT
DTSTAMP:20260424T035044Z
DTSTART:20180910T140000Z
DTEND:20180910T170000Z
TRANSP:TRANSPARENT
PRIORITY:0
SUMMARY:SSC-Kid's Zone site supervisor meeting
LOCATION:SS Conference Room
DESCRIPTION:Groups:\nKid's Zone Program\n\nSchools:\nDistrict Administrati
 on Center\n\nLocation:\nSS Conference Room\n\n
URL;VALUE=URI:http://liberty53.tandem.co/index.php?type=view&action=event&
 id=325077
CREATED:20180817T185158Z
LAST-MODIFIED:20180821T182643Z
UID:event_request-325077-liberty53@intand.com
END:VEVENT
END:VCALENDAR
