BEGIN:VCALENDAR
VERSION:2.0
PRODID:-//Intand Corporation//Tandem//EN
METHOD:PUBLISH
BEGIN:VEVENT
DTSTAMP:20260424T053340Z
DTSTART:20181115T100000Z
DTEND:20181115T230000Z
TRANSP:TRANSPARENT
PRIORITY:0
SUMMARY:HOSA Blood Drive
LOCATION:LNHS Fieldhouse Mezzanine
DESCRIPTION:HOSA Blood Drive Barbara Williams is contact for HOSA barbara.
 williams@lps53.org 835-2996\n\nSchools:\nLiberty North High School\n\nLoca
 tion:\nLNHS Fieldhouse Mezzanine\n\n
URL;VALUE=URI:http://liberty53.tandem.co/index.php?type=view&action=event&
 id=324974
CREATED:20180816T161004Z
LAST-MODIFIED:20180820T134144Z
UID:event_request-324974-liberty53@intand.com
END:VEVENT
END:VCALENDAR
