BEGIN:VCALENDAR
VERSION:2.0
PRODID:-//Intand Corporation//Tandem//EN
METHOD:PUBLISH
BEGIN:VEVENT
DTSTAMP:20260424T040532Z
DTSTART:20180830T180000Z
DTEND:20180830T183500Z
TRANSP:TRANSPARENT
PRIORITY:0
SUMMARY:LHS - BC Mtg (Allshouse)
LOCATION:LHS Learning Stairs
DESCRIPTION:Groups:\nLHS Breakfast Club\n\nSchools:\nLiberty High School\n
 \nLocation:\nLHS Learning Stairs\n\n
URL;VALUE=URI:http://liberty53.tandem.co/index.php?type=view&action=event&
 id=324905
CREATED:20180815T160504Z
LAST-MODIFIED:20180815T172545Z
UID:event_request-324905-liberty53@intand.com
END:VEVENT
END:VCALENDAR
