BEGIN:VCALENDAR
VERSION:2.0
PRODID:-//Intand Corporation//Tandem//EN
METHOD:PUBLISH
BEGIN:VEVENT
DTSTAMP:20260424T041433Z
DTSTART:20180821T193000Z
DTEND:20180821T220000Z
TRANSP:TRANSPARENT
PRIORITY:0
SUMMARY:8th Volleyball Practice
LOCATION:DMS Gym
DESCRIPTION:Groups:\nLHS 8th Grade Volleyball\nDMS Staff\n\nSchools:\nLibe
 rty High School\nDiscovery Middle School\nLiberty Middle School\n\nLocatio
 n:\nDMS Gym\n\n
URL;VALUE=URI:http://liberty53.tandem.co/index.php?type=view&action=event&
 id=324793
CREATED:20180813T193046Z
LAST-MODIFIED:20180813T193046Z
UID:event-324793-liberty53@intand.com
END:VEVENT
END:VCALENDAR
