BEGIN:VCALENDAR
VERSION:2.0
PRODID:-//Intand Corporation//Tandem//EN
METHOD:PUBLISH
BEGIN:VEVENT
DTSTAMP:20260424T022423Z
DTSTART:20180924T200000Z
DTEND:20180924T211500Z
TRANSP:TRANSPARENT
PRIORITY:0
SUMMARY:LO - Girls on the Run Practice
LOCATION:LOE Large Group Room
DESCRIPTION:Outside area\n\nGroups:\nGirls on the Run\n\nSchools:\nLiberty
  Oaks Elementary\n\nLocation:\nLOE Large Group Room\n\n
URL;VALUE=URI:http://liberty53.tandem.co/index.php?type=view&action=event&
 id=324480
CREATED:20180807T163405Z
LAST-MODIFIED:20180807T163405Z
UID:event-324480-liberty53@intand.com
END:VEVENT
END:VCALENDAR
