BEGIN:VCALENDAR
VERSION:2.0
PRODID:-//Intand Corporation//Tandem//EN
METHOD:PUBLISH
BEGIN:VEVENT
DTSTAMP:20260424T055206Z
DTSTART:20190123T140000Z
DTEND:20190123T205000Z
TRANSP:TRANSPARENT
PRIORITY:0
SUMMARY:LMS Choral Rehearsal @ LPAT
LOCATION:Liberty Performing Arts Theatre
DESCRIPTION:Setup: 7:30 am\nBreakdown: 3:00 pm\n\nGroups:\nLMS Vocal Music
 \n\nSchools:\nLiberty Middle School\n\nLocation:\nLiberty Performing Arts 
 Theatre\n\nContacts:\nDan Rasmussen\n\n
URL;VALUE=URI:http://liberty53.tandem.co/index.php?type=view&action=event&
 id=324444
CREATED:20180807T151036Z
LAST-MODIFIED:20180807T151427Z
UID:event_request-324444-liberty53@intand.com
END:VEVENT
END:VCALENDAR
