BEGIN:VCALENDAR
VERSION:2.0
PRODID:-//Intand Corporation//Tandem//EN
METHOD:PUBLISH
BEGIN:VEVENT
DTSTAMP:20260424T024326Z
DTSTART:20180929T140000Z
DTEND:20180929T190000Z
TRANSP:TRANSPARENT
PRIORITY:0
SUMMARY:HMS - Liberty Fall Festival Parade Line Up
LOCATION:Heritage Middle School
DESCRIPTION:Use of parking lots ONLY.\n\nGroups:\nLiberty Chamber of Comme
 rce\n\nSchools:\nHeritage Middle School\n\nLocation:\nHeritage Middle Scho
 ol\n\n
X-ALT-DESC;FMTTYPE=text/html:<!doctype html><html><body>Use of parking lot
 s <span style="text-decoration: underline\;"><strong>ONLY</strong></span>.
 <br /><br />Groups:<br />Liberty Chamber of Commerce<br /><br />Schools:<b
 r />Heritage Middle School<br /><br />Location:<br />Heritage Middle Schoo
 l<br /></body></html>
URL;VALUE=URI:http://liberty53.tandem.co/index.php?type=view&action=event&
 id=324315
CREATED:20180806T161751Z
LAST-MODIFIED:20180806T161751Z
UID:event-324315-liberty53@intand.com
END:VEVENT
END:VCALENDAR
