BEGIN:VCALENDAR
VERSION:2.0
PRODID:-//Intand Corporation//Tandem//EN
METHOD:PUBLISH
BEGIN:VEVENT
DTSTAMP:20260424T053846Z
DTSTART:20180905T233000Z
DTEND:20180906T003000Z
TRANSP:TRANSPARENT
PRIORITY:0
SUMMARY:LPS Trapshooting Team
LOCATION:LNHS Learning Stairs
DESCRIPTION:Groups:\nLHS Trap Shooting\n\nSchools:\nLiberty High School\nL
 iberty North High School\n\nLocation:\nLNHS Learning Stairs\n\n
URL;VALUE=URI:http://liberty53.tandem.co/index.php?type=view&action=event&
 id=324214
CREATED:20180803T201126Z
LAST-MODIFIED:20180803T202021Z
UID:event_request-324214-liberty53@intand.com
END:VEVENT
END:VCALENDAR
