BEGIN:VCALENDAR
VERSION:2.0
PRODID:-//Intand Corporation//Tandem//EN
METHOD:PUBLISH
BEGIN:VEVENT
DTSTAMP:20260424T055256Z
DTSTART:20190126T180000Z
DTEND:20190127T030000Z
TRANSP:TRANSPARENT
PRIORITY:0
SUMMARY:SCE - Cub Scout Pack 337: Pinewood Derby
LOCATION:SCE Great Hall
DESCRIPTION:Groups:\nCub Scout Pack #337\n\nSchools:\nShoal Creek Elementa
 ry\n\nLocation:\nSCE Great Hall\n\n
URL;VALUE=URI:http://liberty53.tandem.co/index.php?type=view&action=event&
 id=324213
CREATED:20180803T193646Z
LAST-MODIFIED:20180803T193646Z
UID:event-324213-liberty53@intand.com
END:VEVENT
END:VCALENDAR
