BEGIN:VCALENDAR
VERSION:2.0
PRODID:-//Intand Corporation//Tandem//EN
METHOD:PUBLISH
BEGIN:VEVENT
DTSTAMP:20260424T041423Z
DTSTART:20180801T133000Z
DTEND:20180801T140000Z
TRANSP:TRANSPARENT
PRIORITY:0
SUMMARY:JV Sapphires practice
LOCATION:HMS North Gym
DESCRIPTION:Groups:\nLHS Sapphires JV\n\nSchools:\nLiberty High School\nHe
 ritage Middle School\n\nLocation:\nHMS North Gym\n\n
URL;VALUE=URI:http://liberty53.tandem.co/index.php?type=view&action=event&
 id=324166
CREATED:20180803T124455Z
LAST-MODIFIED:20180806T002129Z
UID:event_request-324166-liberty53@intand.com
END:VEVENT
END:VCALENDAR
