BEGIN:VCALENDAR
VERSION:2.0
PRODID:-//Intand Corporation//Tandem//EN
METHOD:PUBLISH
BEGIN:VEVENT
DTSTAMP:20260424T055159Z
DTSTART:20180813T180000Z
DTEND:20180813T210000Z
TRANSP:TRANSPARENT
PRIORITY:0
SUMMARY:Fine Arts Back-To-School Meeting
LOCATION:LNHS Room 612 Orchestra
DESCRIPTION:Groups:\nFine Arts\n\nSchools:\nDistrict Administration Center
 \nLiberty North High School\n\nLocation:\nLNHS Room 612 Orchestra\n\n
URL;VALUE=URI:http://liberty53.tandem.co/index.php?type=view&action=event&
 id=324157
CREATED:20180801T173933Z
LAST-MODIFIED:20180801T173933Z
UID:event-324157-liberty53@intand.com
END:VEVENT
END:VCALENDAR
