BEGIN:VCALENDAR
VERSION:2.0
PRODID:-//Intand Corporation//Tandem//EN
METHOD:PUBLISH
BEGIN:VEVENT
DTSTAMP:20260424T043115Z
DTSTART:20181114T151500Z
DTEND:20181114T161500Z
TRANSP:TRANSPARENT
PRIORITY:0
SUMMARY:LHS Principal Counselor Meeting
LOCATION:LHS Guidance Conference Room
DESCRIPTION:Groups:\nLHS Administrative Team\n\nSchools:\nLiberty High Sch
 ool\n\nLocation:\nLHS Guidance Conference Room\n\n
URL;VALUE=URI:http://liberty53.tandem.co/index.php?type=view&action=event&
 id=324138
CREATED:20180731T173209Z
LAST-MODIFIED:20180731T173209Z
UID:event-324138-liberty53@intand.com
END:VEVENT
END:VCALENDAR
