BEGIN:VCALENDAR
VERSION:2.0
PRODID:-//Intand Corporation//Tandem//EN
METHOD:PUBLISH
BEGIN:VEVENT
DTSTAMP:20260424T035028Z
DTSTART:20180907T000000Z
DTEND:20180907T010000Z
TRANSP:TRANSPARENT
PRIORITY:0
SUMMARY:[Cancelled] FR - BSA: Cub Scout School Night
LOCATION:FE Cafeteria
DESCRIPTION:Groups:\nBoy Scout of America\n\nSchools:\nFranklin Elementary
 \n\nLocation:\nFE Cafeteria\n\n
URL;VALUE=URI:http://liberty53.tandem.co/index.php?type=view&action=event&
 id=323924
CREATED:20180726T155737Z
LAST-MODIFIED:20180906T153840Z
UID:event-323924-liberty53@intand.com
END:VEVENT
END:VCALENDAR
