BEGIN:VCALENDAR
VERSION:2.0
PRODID:-//Intand Corporation//Tandem//EN
METHOD:PUBLISH
BEGIN:VEVENT
DTSTAMP:20260424T024403Z
DTSTART:20180907T000000Z
DTEND:20180907T010000Z
TRANSP:TRANSPARENT
PRIORITY:0
SUMMARY:[Cancelled] AD - BSA: Cub Scout School Night
LOCATION:ADE Cafeteria
DESCRIPTION:Groups:\nBoy Scout of America\n\nSchools:\nAlexander Doniphan 
 Elementary\n\nLocation:\nADE Cafeteria\n\n
URL;VALUE=URI:http://liberty53.tandem.co/index.php?type=view&action=event&
 id=323920
CREATED:20180726T155122Z
LAST-MODIFIED:20180906T153617Z
UID:event-323920-liberty53@intand.com
END:VEVENT
END:VCALENDAR
