BEGIN:VCALENDAR
VERSION:2.0
PRODID:-//Intand Corporation//Tandem//EN
METHOD:PUBLISH
BEGIN:VEVENT
DTSTAMP:20260424T035114Z
DTSTART:20190310T193000Z
DTEND:20190310T213000Z
TRANSP:TRANSPARENT
PRIORITY:0
SUMMARY:LNHS - Metropolitan Youth Sinfonia Rehearsal
LOCATION:LNHS Room 612 Orchestra
DESCRIPTION:Groups:\nMetropolitan Youth Orchestra of KC\n\nSchools:\nLiber
 ty North High School\n\nLocation:\nLNHS Room 612 Orchestra\n\nCustodial Su
 pport Not Needed - LPS Staff Member\n\n
URL;VALUE=URI:http://liberty53.tandem.co/index.php?type=view&action=event&
 id=323727
CREATED:20180726T135316Z
LAST-MODIFIED:20180726T135316Z
UID:event-323727-liberty53@intand.com
END:VEVENT
END:VCALENDAR
