BEGIN:VCALENDAR
VERSION:2.0
PRODID:-//Intand Corporation//Tandem//EN
METHOD:PUBLISH
BEGIN:VEVENT
DTSTAMP:20260424T061557Z
DTSTART:20181012T203000Z
DTEND:20181013T010000Z
TRANSP:TRANSPARENT
PRIORITY:0
SUMMARY:LHS- BJN Pre Tail Gate 
LOCATION:LHS Hall of Fame Room
DESCRIPTION:Groups:\nLHS Blue Jay Nation\n\nSchools:\nLiberty High School\
 n\nLocation:\nLHS Hall of Fame Room\n\n
URL;VALUE=URI:http://liberty53.tandem.co/index.php?type=view&action=event&
 id=323544
CREATED:20180724T145810Z
LAST-MODIFIED:20180724T145810Z
UID:event-323544-liberty53@intand.com
END:VEVENT
END:VCALENDAR
