BEGIN:VCALENDAR
VERSION:2.0
PRODID:-//Intand Corporation//Tandem//EN
METHOD:PUBLISH
BEGIN:VEVENT
DTSTAMP:20260424T054033Z
DTSTART:20190304T214500Z
DTEND:20190304T224500Z
TRANSP:TRANSPARENT
PRIORITY:0
SUMMARY:[Cancelled] RV - Young Rembrandt's Art Enrichment
LOCATION:RE LMC
DESCRIPTION:Groups:\nYoung Rembrandt's Art Enrichment\n\nSchools:\nRidgevi
 ew Elementary\n\nLocation:\nRE LMC\n\n
URL;VALUE=URI:http://liberty53.tandem.co/index.php?type=view&action=event&
 id=323261
CREATED:20180723T145212Z
LAST-MODIFIED:20190304T142521Z
UID:event-323261-liberty53@intand.com
END:VEVENT
END:VCALENDAR
