BEGIN:VCALENDAR
VERSION:2.0
PRODID:-//Intand Corporation//Tandem//EN
METHOD:PUBLISH
BEGIN:VEVENT
DTSTAMP:20260424T052554Z
DTSTART:20181127T221000Z
DTEND:20181127T231000Z
TRANSP:TRANSPARENT
PRIORITY:0
SUMMARY:[Cancelled] LS - Young Rembrandt's Art Enrichment
LOCATION:LSE Commons Area
DESCRIPTION:Groups:\nYoung Rembrandt's Art Enrichment\n\nSchools:\nLillian
  Schumacher Elementary\n\nLocation:\nLSE Commons Area\n\n
URL;VALUE=URI:http://liberty53.tandem.co/index.php?type=view&action=event&
 id=323200
CREATED:20180723T140428Z
LAST-MODIFIED:20181127T133257Z
UID:event-323200-liberty53@intand.com
END:VEVENT
END:VCALENDAR
