BEGIN:VCALENDAR
VERSION:2.0
PRODID:-//Intand Corporation//Tandem//EN
METHOD:PUBLISH
BEGIN:VEVENT
DTSTAMP:20260424T043538Z
DTSTART:20190123T214500Z
DTEND:20190123T224500Z
TRANSP:TRANSPARENT
PRIORITY:0
SUMMARY:[Cancelled] SC - The Language Project: Spanish Club
LOCATION:SCE Library
DESCRIPTION:Groups:\nThe Language Project\n\nSchools:\nShoal Creek Element
 ary\n\nLocation:\nSCE Library\n\n
URL;VALUE=URI:http://liberty53.tandem.co/index.php?type=view&action=event&
 id=323109
CREATED:20180723T125256Z
LAST-MODIFIED:20190123T132434Z
UID:event-323109-liberty53@intand.com
END:VEVENT
END:VCALENDAR
