BEGIN:VCALENDAR
VERSION:2.0
PRODID:-//Intand Corporation//Tandem//EN
METHOD:PUBLISH
BEGIN:VEVENT
DTSTAMP:20260424T023629Z
DTSTART:20181212T214500Z
DTEND:20181212T224500Z
TRANSP:TRANSPARENT
PRIORITY:0
SUMMARY:SC - The Language Project: Spanish Club
LOCATION:SCE Library
DESCRIPTION:Groups:\nThe Language Project\n\nSchools:\nShoal Creek Element
 ary\n\nLocation:\nSCE Library\n\n
URL;VALUE=URI:http://liberty53.tandem.co/index.php?type=view&action=event&
 id=323103
CREATED:20180723T125256Z
LAST-MODIFIED:20180723T125256Z
UID:event-323103-liberty53@intand.com
END:VEVENT
END:VCALENDAR
