BEGIN:VCALENDAR
VERSION:2.0
PRODID:-//Intand Corporation//Tandem//EN
METHOD:PUBLISH
BEGIN:VEVENT
DTSTAMP:20260424T022519Z
DTSTART:20180831T223000Z
DTEND:20180901T013000Z
TRANSP:TRANSPARENT
PRIORITY:0
SUMMARY:[Cancelled] Cross Country Spaghetti Dinner
LOCATION:LHS Cafeteria
DESCRIPTION:Groups:\nLHS Cross Country\n\nSchools:\nLiberty High School\n\
 nLocation:\nLHS Cafeteria\n\n
URL;VALUE=URI:http://liberty53.tandem.co/index.php?type=view&action=event&
 id=323024
CREATED:20180721T165557Z
LAST-MODIFIED:20180806T023007Z
UID:event_request-323024-liberty53@intand.com
END:VEVENT
END:VCALENDAR
