BEGIN:VCALENDAR
VERSION:2.0
PRODID:-//Intand Corporation//Tandem//EN
METHOD:PUBLISH
BEGIN:VEVENT
DTSTAMP:20260424T043112Z
DTSTART:20180828T230000Z
DTEND:20180829T045959Z
TRANSP:TRANSPARENT
PRIORITY:0
SUMMARY:LN MSoc C Gold vs LSNorth
LOCATION:LMS Soccer Complex\, LNHS Activity Complex
DESCRIPTION:Breakdown: TBD\n\nReturn: TBD\n\nGroups:\nLNHS Soccer - Boys' 
 C-Gold\n\nSchools:\nLiberty North High School\n\nLocations:\nLMS Soccer Co
 mplex\nLNHS Activity Complex\n\n
URL;VALUE=URI:http://liberty53.tandem.co/index.php?type=view&action=event&
 id=322958
CREATED:20180719T212343Z
LAST-MODIFIED:20180719T212343Z
UID:event-322958-liberty53@intand.com
END:VEVENT
END:VCALENDAR
